BEGIN:VCALENDAR
VERSION:2.0
PRODID:-//Nahkauf Wimmer//iCalendar//DE
METHOD:PUBLISH
BEGIN:VEVENT
DTSTART:20260311T130000Z
DTEND:20260311T150000Z
DTSTAMP:20260424T085426Z
SUMMARY:Kaffee und mehr…..
LOCATION:Pfarrheim Prutting
UID:c2fed74aff044d0080724d71c0af6fb2@nahkauf-wimmer.de
END:VEVENT
END:VCALENDAR