BEGIN:VCALENDAR
VERSION:2.0
PRODID:-//Nahkauf Wimmer//iCalendar//DE
METHOD:PUBLISH
BEGIN:VEVENT
DTSTART:20260312T140000Z
DTEND:20260312T160000Z
DTSTAMP:20260424T085722Z
SUMMARY:Sozialsprechstunde
LOCATION:Seniorenzentrum
UID:5e5656fb2c6146db91b398ee663e1529@nahkauf-wimmer.de
END:VEVENT
END:VCALENDAR