BEGIN:VCALENDAR
VERSION:2.0
PRODID:-//Nahkauf Wimmer//iCalendar//DE
METHOD:PUBLISH
BEGIN:VEVENT
DTSTART:20260319T140000Z
DTEND:20260319T160000Z
DTSTAMP:20260422T102431Z
SUMMARY:Sozialsprechstunde
LOCATION:Seniorenzentrum
UID:9ed946cf51444f8fbde997ee38e69332@nahkauf-wimmer.de
END:VEVENT
END:VCALENDAR